Workbook

Sheet 9-13-19
A1: September 13 - 19, 2015
B2: Sunday | C2: Monday | D2: Tuesday | E2: Wednesday | F2: Thursday | G2: Friday | H2: Saturday
B3: 42260 | C3: =+B3+1 -> 42261 | D3: =+C3+1 -> 42262 | E3: =+D3+1 -> 42263 | F3: =+E3+1 -> 42264 | G3: =+F3+1 -> 42265 | H3: =+G3+1 -> 42266
A4: 0.29166667
A5: 0.3125
A6: 0.33333333
A7: 0.35416667
A8: 0.375
A9: 0.39583333
A10: 0.41666667
A11: 0.4375
A12: 0.45833333
A13: 0.47916667
A14: 0.5
A15: 0.52083333
... A37: 0.97916667

Sheet 9-20-26
A1: September 20 - 26, 2015
B2: Sunday | C2: Monday | D2: Tuesday | E2: Wednesday | F2: Thursday | G2: Friday | H2: Saturday
B3: =+'9-13-19'!H3+1 -> 42267 | C3: =+B3+1 -> 42268 | D3: =+C3+1 -> 42269 | E3: =+D3+1 -> 42270 | F3: =+E3+1 -> 42271 | G3: =+F3+1 -> 42272 | H3: =+G3+1 -> 42273
A4: 0.29166667
A5: 0.3125
A6: 0.33333333
A7: 0.35416667
A8: 0.375
A9: 0.39583333
A10: 0.41666667
A11: 0.4375
A12: 0.45833333
A13: 0.47916667
A14: 0.5
A15: 0.52083333
... A37: 0.97916667

Sheet 9-27-10-3
A1: September 27 - October 3, 2015
B2: Sunday | C2: Monday | D2: Tuesday | E2: Wednesday | F2: Thursday | G2: Friday | H2: Saturday
B3: =+'9-20-26'!H3+1 -> 42274 | C3: =+B3+1 -> 42275 | D3: =+C3+1 -> 42276 | E3: =+D3+1 -> 42277 | F3: =+E3+1 -> 42278 | G3: =+F3+1 -> 42279 | H3: =+G3+1 -> 42280
A4: 0.29166667
A5: 0.3125
A6: 0.33333333
A7: 0.35416667
A8: 0.375
A9: 0.39583333
A10: 0.41666667
A11: 0.4375
A12: 0.45833333
A13: 0.47916667
A14: 0.5
A15: 0.52083333
... A37: 0.97916667

Sheet 10-4-10
A1: October 4 - 10, 2015
B2: Sunday | C2: Monday | D2: Tuesday | E2: Wednesday | F2: Thursday | G2: Friday | H2: Saturday
B3: =+'9-27-10-3'!H3+1 -> 42281 | C3: =+B3+1 -> 42282 | D3: =+C3+1 -> 42283 | E3: =+D3+1 -> 42284 | F3: =+E3+1 -> 42285 | G3: =+F3+1 -> 42286 | H3: =+G3+1 -> 42287
A4: 0.29166667
A5: 0.3125
A6: 0.33333333
A7: 0.35416667
A8: 0.375
A9: 0.39583333
A10: 0.41666667
A11: 0.4375
A12: 0.45833333
A13: 0.47916667
A14: 0.5
A15: 0.52083333
... A37: 0.97916667

Sheet 10-11-17
A1: October 11 - 17, 2015
B2: Sunday | C2: Monday | D2: Tuesday | E2: Wednesday | F2: Thursday | G2: Friday | H2: Saturday
B3: =+'10-4-10'!H3+1 -> 42288 | C3: =+B3+1 -> 42289 | D3: =+C3+1 -> 42290 | E3: =+D3+1 -> 42291 | F3: =+E3+1 -> 42292 | G3: =+F3+1 -> 42293 | H3: =+G3+1 -> 42294
A4: 0.29166667
A5: 0.3125
A6: 0.33333333
A7: 0.35416667
A8: 0.375
A9: 0.39583333
A10: 0.41666667
A11: 0.4375
A12: 0.45833333
A13: 0.47916667
A14: 0.5
A15: 0.52083333
... A37: 0.97916667

Sheet 10-18-24
A1: October 18 - 24, 2015
B2: Sunday | C2: Monday | D2: Tuesday | E2: Wednesday | F2: Thursday | G2: Friday | H2: Saturday
B3: =+'10-11-17'!H3+1 -> 42295 | C3: =+B3+1 -> 42296 | D3: =+C3+1 -> 42297 | E3: =+D3+1 -> 42298 | F3: =+E3+1 -> 42299 | G3: =+F3+1 -> 42300 | H3: =+G3+1 -> 42301
A4: 0.29166667
A5: 0.3125
A6: 0.33333333
A7: 0.35416667
A8: 0.375
A9: 0.39583333
A10: 0.41666667
A11: 0.4375
A12: 0.45833333
A13: 0.47916667
A14: 0.5
A15: 0.52083333
... A37: 0.97916667

Sheet 10-25-31
A1: October 25 - 31, 2015
B2: Sunday | C2: Monday | D2: Tuesday | E2: Wednesday | F2: Thursday | G2: Friday | H2: Saturday
B3: =+'10-18-24'!H3+1 -> 42302 | C3: =+B3+1 -> 42303 | D3: =+C3+1 -> 42304 | E3: =+D3+1 -> 42305 | F3: =+E3+1 -> 42306 | G3: =+F3+1 -> 42307 | H3: =+G3+1 -> 42308
A4: 0.29166667
A5: 0.3125
A6: 0.33333333
A7: 0.35416667
A8: 0.375
A9: 0.39583333
A10: 0.41666667
A11: 0.4375
A12: 0.45833333
A13: 0.47916667
A14: 0.5
A15: 0.52083333
... A37: 0.97916667
